BEGIN:VCALENDAR
VERSION:2.0
PRODID:-//LAG Begegnungsland - ECPv6.15.20//NONSGML v1.0//EN
CALSCALE:GREGORIAN
METHOD:PUBLISH
X-ORIGINAL-URL:https://www.lag-begegnungsland.de
X-WR-CALDESC:Veranstaltungen für LAG Begegnungsland
REFRESH-INTERVAL;VALUE=DURATION:PT1H
X-Robots-Tag:noindex
X-PUBLISHED-TTL:PT1H
BEGIN:VTIMEZONE
TZID:Europe/Berlin
BEGIN:DAYLIGHT
TZOFFSETFROM:+0100
TZOFFSETTO:+0200
TZNAME:CEST
DTSTART:20250330T010000
END:DAYLIGHT
BEGIN:STANDARD
TZOFFSETFROM:+0200
TZOFFSETTO:+0100
TZNAME:CET
DTSTART:20251026T010000
END:STANDARD
BEGIN:DAYLIGHT
TZOFFSETFROM:+0100
TZOFFSETTO:+0200
TZNAME:CEST
DTSTART:20260329T010000
END:DAYLIGHT
BEGIN:STANDARD
TZOFFSETFROM:+0200
TZOFFSETTO:+0100
TZNAME:CET
DTSTART:20261025T010000
END:STANDARD
BEGIN:DAYLIGHT
TZOFFSETFROM:+0100
TZOFFSETTO:+0200
TZNAME:CEST
DTSTART:20270328T010000
END:DAYLIGHT
BEGIN:STANDARD
TZOFFSETFROM:+0200
TZOFFSETTO:+0100
TZNAME:CET
DTSTART:20271031T010000
END:STANDARD
END:VTIMEZONE
BEGIN:VEVENT
DTSTART;TZID=Europe/Berlin:20260318T183000
DTEND;TZID=Europe/Berlin:20260318T193000
DTSTAMP:20260419T160731
CREATED:20260304T131549Z
LAST-MODIFIED:20260304T131549Z
UID:6767-1773858600-1773862200@www.lag-begegnungsland.de
SUMMARY:Mitgliederversammlung der LAG Begegnungsland Lech-Wertach
DESCRIPTION:
URL:https://www.lag-begegnungsland.de/termine/mitgliederversammlung-der-lag-begegnungsland-lech-wertach-2-2-3-2/
LOCATION:Informationspavillon 955\, Alter Postweg 1\, Königsbrunn\, 86343\, Germany
CATEGORIES:Versammlungen
ATTACH;FMTTYPE=image/jpeg:https://www.lag-begegnungsland.de/wp-content/uploads/Entscheidungsgremium-Archiv.jpg
ORGANIZER;CN="Begegnungsland Lech-Wertach e. V.":MAILTO:briefkasten@lag-begegnungsland.de
END:VEVENT
BEGIN:VEVENT
DTSTART;TZID=Europe/Berlin:20260318T193000
DTEND;TZID=Europe/Berlin:20260318T193000
DTSTAMP:20260419T160731
CREATED:20260304T131734Z
LAST-MODIFIED:20260304T131734Z
UID:6770-1773862200-1773862200@www.lag-begegnungsland.de
SUMMARY:Sitzung des Entscheidungsgremiums der LAG Begegnungsland Lech-Wertach
DESCRIPTION:
URL:https://www.lag-begegnungsland.de/termine/sitzung-des-entscheidungsgremiums-der-lag-begegnungsland-lech-wertach-2/
LOCATION:Informationspavillon 955\, Alter Postweg 1\, Königsbrunn\, 86343\, Germany
CATEGORIES:Versammlungen
ATTACH;FMTTYPE=image/jpeg:https://www.lag-begegnungsland.de/wp-content/uploads/Entscheidungsgremium-Archiv.jpg
ORGANIZER;CN="Begegnungsland Lech-Wertach e. V.":MAILTO:briefkasten@lag-begegnungsland.de
END:VEVENT
END:VCALENDAR