BEGIN:VCALENDAR
VERSION:2.0
PRODID:-//LAG Begegnungsland - ECPv6.15.20//NONSGML v1.0//EN
CALSCALE:GREGORIAN
METHOD:PUBLISH
X-WR-CALNAME:LAG Begegnungsland
X-ORIGINAL-URL:https://www.lag-begegnungsland.de
X-WR-CALDESC:Veranstaltungen für LAG Begegnungsland
REFRESH-INTERVAL;VALUE=DURATION:PT1H
X-Robots-Tag:noindex
X-PUBLISHED-TTL:PT1H
BEGIN:VTIMEZONE
TZID:Europe/Berlin
BEGIN:DAYLIGHT
TZOFFSETFROM:+0100
TZOFFSETTO:+0200
TZNAME:CEST
DTSTART:20170326T010000
END:DAYLIGHT
BEGIN:STANDARD
TZOFFSETFROM:+0200
TZOFFSETTO:+0100
TZNAME:CET
DTSTART:20171029T010000
END:STANDARD
BEGIN:DAYLIGHT
TZOFFSETFROM:+0100
TZOFFSETTO:+0200
TZNAME:CEST
DTSTART:20180325T010000
END:DAYLIGHT
BEGIN:STANDARD
TZOFFSETFROM:+0200
TZOFFSETTO:+0100
TZNAME:CET
DTSTART:20181028T010000
END:STANDARD
BEGIN:DAYLIGHT
TZOFFSETFROM:+0100
TZOFFSETTO:+0200
TZNAME:CEST
DTSTART:20190331T010000
END:DAYLIGHT
BEGIN:STANDARD
TZOFFSETFROM:+0200
TZOFFSETTO:+0100
TZNAME:CET
DTSTART:20191027T010000
END:STANDARD
END:VTIMEZONE
BEGIN:VEVENT
DTSTART;TZID=Europe/Berlin:20180607T103000
DTEND;TZID=Europe/Berlin:20180607T113000
DTSTAMP:20260419T174900
CREATED:20180520T120319Z
LAST-MODIFIED:20180605T120412Z
UID:3592-1528367400-1528371000@www.lag-begegnungsland.de
SUMMARY:Vorstandssitzung der Regionalentwicklung Begegnungsland Lech-Wertach
DESCRIPTION:
URL:https://www.lag-begegnungsland.de/termine/vorstandssitzung-der-regionalentwicklung-begegnungsland-lech-wertach/
LOCATION:Rathaus Schwabmünchen\, Fuggerstraße 50\, Schwabmünchen\, 86830
CATEGORIES:Versammlungen
ATTACH;FMTTYPE=image/jpeg:https://www.lag-begegnungsland.de/wp-content/uploads/Vorstandssitzung-Archivbild.jpg
ORGANIZER;CN="Begegnungsland Lech-Wertach e. V.":MAILTO:briefkasten@lag-begegnungsland.de
END:VEVENT
BEGIN:VEVENT
DTSTART;TZID=Europe/Berlin:20180628T180000
DTEND;TZID=Europe/Berlin:20180628T190000
DTSTAMP:20260419T174900
CREATED:20180607T055555Z
LAST-MODIFIED:20180607T055555Z
UID:3606-1530208800-1530212400@www.lag-begegnungsland.de
SUMMARY:Sitzung des Entscheidungsgremiums der LAG Begegnungsland Lech-Wertach
DESCRIPTION:Einladung Entscheidungsgremium BGL mit TOP am 28.06.18 \n 
URL:https://www.lag-begegnungsland.de/termine/sitzung-des-entscheidungsgremiums-der-lag-begegnungsland-lech-wertach-4/
LOCATION:Rathaus Schwabmünchen\, Fuggerstraße 50\, Schwabmünchen\, 86830
CATEGORIES:Versammlungen
ATTACH;FMTTYPE=image/jpeg:https://www.lag-begegnungsland.de/wp-content/uploads/Entscheidungsgremium-Archiv.jpg
ORGANIZER;CN="Begegnungsland Lech-Wertach e. V.":MAILTO:briefkasten@lag-begegnungsland.de
END:VEVENT
BEGIN:VEVENT
DTSTART;TZID=Europe/Berlin:20180628T190000
DTEND;TZID=Europe/Berlin:20180628T200000
DTSTAMP:20260419T174900
CREATED:20180607T055724Z
LAST-MODIFIED:20180607T055724Z
UID:3609-1530212400-1530216000@www.lag-begegnungsland.de
SUMMARY:Mitgliederversammlung der LAG begegnungsland Lech-Wertach
DESCRIPTION:Einladung mit TOP MGV BGL am 28.06.18
URL:https://www.lag-begegnungsland.de/termine/mitgliederversammlung-der-lag-begegnungsland-lech-wertach/
LOCATION:Rathaus Schwabmünchen\, Fuggerstraße 50\, Schwabmünchen\, 86830
CATEGORIES:Versammlungen
ATTACH;FMTTYPE=image/jpeg:https://www.lag-begegnungsland.de/wp-content/uploads/Mitgliederversammlung-Archivbild.jpg
ORGANIZER;CN="Begegnungsland Lech-Wertach e. V.":MAILTO:briefkasten@lag-begegnungsland.de
END:VEVENT
BEGIN:VEVENT
DTSTART;TZID=Europe/Berlin:20180630T180000
DTEND;TZID=Europe/Berlin:20180630T190000
DTSTAMP:20260419T174900
CREATED:20180315T123529Z
LAST-MODIFIED:20230327T121633Z
UID:3504-1530381600-1530385200@www.lag-begegnungsland.de
SUMMARY:Jubiläumsfeier 10 Jahre LAG Begegnungsland Lech-Wertach e. V.
DESCRIPTION:
URL:https://www.lag-begegnungsland.de/termine/jubilaeumsfeier-10-jahre-lag-begegnungsland-lech-wertach-e-v/
LOCATION:Festplatz Königsbrunn\, Festplatz 3\, Königsbrunn\, Bayern\, 86343\, Germany
CATEGORIES:Feste & Feiern
ATTACH;FMTTYPE=image/jpeg:https://www.lag-begegnungsland.de/wp-content/uploads/DSC_5187.jpg
ORGANIZER;CN="Begegnungsland Lech-Wertach e. V.":MAILTO:briefkasten@lag-begegnungsland.de
END:VEVENT
END:VCALENDAR