BEGIN:VCALENDAR
VERSION:2.0
PRODID:-//LAG Begegnungsland - ECPv6.15.20//NONSGML v1.0//EN
CALSCALE:GREGORIAN
METHOD:PUBLISH
X-WR-CALNAME:LAG Begegnungsland
X-ORIGINAL-URL:https://www.lag-begegnungsland.de
X-WR-CALDESC:Veranstaltungen für LAG Begegnungsland
REFRESH-INTERVAL;VALUE=DURATION:PT1H
X-Robots-Tag:noindex
X-PUBLISHED-TTL:PT1H
BEGIN:VTIMEZONE
TZID:Europe/Berlin
BEGIN:DAYLIGHT
TZOFFSETFROM:+0100
TZOFFSETTO:+0200
TZNAME:CEST
DTSTART:20170326T010000
END:DAYLIGHT
BEGIN:STANDARD
TZOFFSETFROM:+0200
TZOFFSETTO:+0100
TZNAME:CET
DTSTART:20171029T010000
END:STANDARD
BEGIN:DAYLIGHT
TZOFFSETFROM:+0100
TZOFFSETTO:+0200
TZNAME:CEST
DTSTART:20180325T010000
END:DAYLIGHT
BEGIN:STANDARD
TZOFFSETFROM:+0200
TZOFFSETTO:+0100
TZNAME:CET
DTSTART:20181028T010000
END:STANDARD
BEGIN:DAYLIGHT
TZOFFSETFROM:+0100
TZOFFSETTO:+0200
TZNAME:CEST
DTSTART:20190331T010000
END:DAYLIGHT
BEGIN:STANDARD
TZOFFSETFROM:+0200
TZOFFSETTO:+0100
TZNAME:CET
DTSTART:20191027T010000
END:STANDARD
END:VTIMEZONE
BEGIN:VEVENT
DTSTART;TZID=Europe/Berlin:20180427T170000
DTEND;TZID=Europe/Berlin:20180429T180000
DTSTAMP:20260419T214251
CREATED:20180420T091013Z
LAST-MODIFIED:20180420T091013Z
UID:3527-1524848400-1525024800@www.lag-begegnungsland.de
SUMMARY:Teilnahme an der LEWA 2018
DESCRIPTION:Die LEWA 2018 findet vom 27.04.2018 bis 29.04.2018 in der Singoldhalle und Realschule in Bobingen statt. Sie ist die regionale Gewerbeschau für die Region Begegnungsland Lech-Wertach. Die LAG ist mit einem eigenen Stand vertreten in halle 2. Schauen Sie einfach bei uns vorbei.
URL:https://www.lag-begegnungsland.de/termine/teilnahme-an-der-lewa-2018/
LOCATION:Singoldhalle Bobingen\, Willi-Ohlendorf-Weg 1\, Bobingen\, 86399\, Deutschland
CATEGORIES:Feste & Feiern
ATTACH;FMTTYPE=image/jpeg:https://www.lag-begegnungsland.de/wp-content/uploads/l_1295.c0f6918b0f3de280421f0c5e2a11b1b3.jpg
END:VEVENT
END:VCALENDAR