BEGIN:VCALENDAR
VERSION:2.0
PRODID:-//LAG Begegnungsland - ECPv6.15.20//NONSGML v1.0//EN
CALSCALE:GREGORIAN
METHOD:PUBLISH
X-WR-CALNAME:LAG Begegnungsland
X-ORIGINAL-URL:https://www.lag-begegnungsland.de
X-WR-CALDESC:Veranstaltungen für LAG Begegnungsland
REFRESH-INTERVAL;VALUE=DURATION:PT1H
X-Robots-Tag:noindex
X-PUBLISHED-TTL:PT1H
BEGIN:VTIMEZONE
TZID:Europe/Berlin
BEGIN:DAYLIGHT
TZOFFSETFROM:+0100
TZOFFSETTO:+0200
TZNAME:CEST
DTSTART:20170326T010000
END:DAYLIGHT
BEGIN:STANDARD
TZOFFSETFROM:+0200
TZOFFSETTO:+0100
TZNAME:CET
DTSTART:20171029T010000
END:STANDARD
BEGIN:DAYLIGHT
TZOFFSETFROM:+0100
TZOFFSETTO:+0200
TZNAME:CEST
DTSTART:20180325T010000
END:DAYLIGHT
BEGIN:STANDARD
TZOFFSETFROM:+0200
TZOFFSETTO:+0100
TZNAME:CET
DTSTART:20181028T010000
END:STANDARD
BEGIN:DAYLIGHT
TZOFFSETFROM:+0100
TZOFFSETTO:+0200
TZNAME:CEST
DTSTART:20190331T010000
END:DAYLIGHT
BEGIN:STANDARD
TZOFFSETFROM:+0200
TZOFFSETTO:+0100
TZNAME:CET
DTSTART:20191027T010000
END:STANDARD
END:VTIMEZONE
BEGIN:VEVENT
DTSTART;TZID=Europe/Berlin:20180308T090000
DTEND;TZID=Europe/Berlin:20180308T100000
DTSTAMP:20260419T233006
CREATED:20180206T094731Z
LAST-MODIFIED:20180206T094731Z
UID:3414-1520499600-1520503200@www.lag-begegnungsland.de
SUMMARY:Vorstandssitzung Begegnungsland Lech-Wertach e.V.
DESCRIPTION:
URL:https://www.lag-begegnungsland.de/termine/vorstandssitzung-begegnungsland-lech-wertach-e-v-3/
LOCATION:Rathaus Kleinaitingen\, Rathausstraße 1\, Kleinaitingen\, Bayern\, 86507\, Germany
CATEGORIES:Versammlungen
ATTACH;FMTTYPE=image/jpeg:https://www.lag-begegnungsland.de/wp-content/uploads/Vorstandssitzung-Archivbild.jpg
ORGANIZER;CN="Begegnungsland Lech-Wertach e. V.":MAILTO:briefkasten@lag-begegnungsland.de
END:VEVENT
BEGIN:VEVENT
DTSTART;TZID=Europe/Berlin:20180315T183000
DTEND;TZID=Europe/Berlin:20180315T183000
DTSTAMP:20260419T233006
CREATED:20180206T094352Z
LAST-MODIFIED:20180206T094352Z
UID:3409-1521138600-1521138600@www.lag-begegnungsland.de
SUMMARY:Mitgliederversammlung Begegnungsland Lech-Wertach e.V.
DESCRIPTION:
URL:https://www.lag-begegnungsland.de/termine/mitgliederversammlung-begegnungsland-lech-wertach-e-v-2/
LOCATION:Rathaus Obermeitingen\, Hauptstraße 23\, Obermeitingen\, Bayern\, 86836\, Germany
CATEGORIES:Versammlungen
ATTACH;FMTTYPE=image/jpeg:https://www.lag-begegnungsland.de/wp-content/uploads/Mitgliederversammlung-Archivbild.jpg
ORGANIZER;CN="Begegnungsland Lech-Wertach e. V.":MAILTO:briefkasten@lag-begegnungsland.de
END:VEVENT
BEGIN:VEVENT
DTSTART;TZID=Europe/Berlin:20180323T113000
DTEND;TZID=Europe/Berlin:20180323T130000
DTSTAMP:20260419T233006
CREATED:20180313T083449Z
LAST-MODIFIED:20180313T083449Z
UID:3471-1521804600-1521810000@www.lag-begegnungsland.de
SUMMARY:Eröffnung des LEADER-Projekts "Lebendiges Wasser" im Luitpoldpark Schwabmünchen
DESCRIPTION:Hiermit laden Sie die Stadt Schwabmünchen und die Regionalentwicklung Begegnungsland Lech-Wertach e.V. herzlich zur Eröffnung des LEADER-Projekts „Park für alle – Lebendiges Wasser“ \nam Freitag\, den 23.03.2018 \num 11:30 Uhr \nin den Luitpoldpark Schwabmünchen \nein. \n  \nDer Luitpoldpark Schwabmünchen hat sich – nicht zuletzt durch die Umsetzung des LEADER-Projekts „Park für Alle“ mit Kletterpark und Disc-Golf-Parcours – als Freizeitareal mit regionaler Bedeutung etabliert. \nUm im Sinne der Leitideen „Schwabmünchen bewegt sich“ und „Park für Alle“ weiterhin ein ganzheitliches Erlebnis für möglichst viele Besuchergruppen zu schaffen\, wurden mit dem Projekt „Lebendiges Wasser“ weitere Elemente in den Luitpoldpark integriert: \n  \n– Anlage eines Fußfühlpfades mit Sitzgelegenheiten \n– Uferrenaturierung der Bachufer in diesem Teil des Parks mit Rückbau der bestehenden Wassertretanlage \n– Ergänzung durch Wasserspielelemente im bestehenden Spielplatz \n  \nDas Projekt „Park für alle – Lebendiges Wasser“ wird gefördert durch das Bayerische Staatsministerium für Ernährung\, Landwirtschaft und Forsten und den Europäischen Landwirtschaftsfonds für die Entwicklung des ländlichen Raums (ELER). Die Begleitung der Fördermaßnahme erfolgte über die Regionalentwicklung Begegnungsland Lech-Wertach e.V. und das Amt für Ernährung\, Landwirtschaft und Forsten in Nördlingen.
URL:https://www.lag-begegnungsland.de/termine/eroeffnung-des-leader-projekts-lebendiges-wasser-im-luitpoldpark-schwabmuenchen/
LOCATION:Luitpoldpark Schwabmünchen\, Riedstraße\, Schwabmünchen\, Bayern\, 86830\, Germany
CATEGORIES:Versammlungen
ATTACH;FMTTYPE=image/jpeg:https://www.lag-begegnungsland.de/wp-content/uploads/LebendigesWasser2.jpg
END:VEVENT
END:VCALENDAR