BEGIN:VCALENDAR
VERSION:2.0
PRODID:-//LAG Begegnungsland - ECPv6.15.20//NONSGML v1.0//EN
CALSCALE:GREGORIAN
METHOD:PUBLISH
X-ORIGINAL-URL:https://www.lag-begegnungsland.de
X-WR-CALDESC:Veranstaltungen für LAG Begegnungsland
REFRESH-INTERVAL;VALUE=DURATION:PT1H
X-Robots-Tag:noindex
X-PUBLISHED-TTL:PT1H
BEGIN:VTIMEZONE
TZID:Europe/Berlin
BEGIN:DAYLIGHT
TZOFFSETFROM:+0100
TZOFFSETTO:+0200
TZNAME:CEST
DTSTART:20170326T010000
END:DAYLIGHT
BEGIN:STANDARD
TZOFFSETFROM:+0200
TZOFFSETTO:+0100
TZNAME:CET
DTSTART:20171029T010000
END:STANDARD
BEGIN:DAYLIGHT
TZOFFSETFROM:+0100
TZOFFSETTO:+0200
TZNAME:CEST
DTSTART:20180325T010000
END:DAYLIGHT
BEGIN:STANDARD
TZOFFSETFROM:+0200
TZOFFSETTO:+0100
TZNAME:CET
DTSTART:20181028T010000
END:STANDARD
BEGIN:DAYLIGHT
TZOFFSETFROM:+0100
TZOFFSETTO:+0200
TZNAME:CEST
DTSTART:20190331T010000
END:DAYLIGHT
BEGIN:STANDARD
TZOFFSETFROM:+0200
TZOFFSETTO:+0100
TZNAME:CET
DTSTART:20191027T010000
END:STANDARD
END:VTIMEZONE
BEGIN:VEVENT
DTSTART;TZID=Europe/Berlin:20180213T123000
DTEND;TZID=Europe/Berlin:20180213T173000
DTSTAMP:20260420T011709
CREATED:20180130T065258Z
LAST-MODIFIED:20180130T065258Z
UID:3374-1518525000-1518543000@www.lag-begegnungsland.de
SUMMARY:Faschingsdienstag: LAG-Geschäftsstelle nachmittags geschlossen
DESCRIPTION:
URL:https://www.lag-begegnungsland.de/termine/faschingsdienstag-lag-geschaeftsstelle-nachmittags-geschlossen/
ATTACH;FMTTYPE=image/jpeg:https://www.lag-begegnungsland.de/wp-content/uploads/955-Infopavillon-1.jpg
END:VEVENT
END:VCALENDAR