BEGIN:VCALENDAR
VERSION:2.0
PRODID:-//LAG Begegnungsland - ECPv6.15.20//NONSGML v1.0//EN
CALSCALE:GREGORIAN
METHOD:PUBLISH
X-WR-CALNAME:LAG Begegnungsland
X-ORIGINAL-URL:https://www.lag-begegnungsland.de
X-WR-CALDESC:Veranstaltungen für LAG Begegnungsland
REFRESH-INTERVAL;VALUE=DURATION:PT1H
X-Robots-Tag:noindex
X-PUBLISHED-TTL:PT1H
BEGIN:VTIMEZONE
TZID:Europe/Berlin
BEGIN:DAYLIGHT
TZOFFSETFROM:+0100
TZOFFSETTO:+0200
TZNAME:CEST
DTSTART:20200329T010000
END:DAYLIGHT
BEGIN:STANDARD
TZOFFSETFROM:+0200
TZOFFSETTO:+0100
TZNAME:CET
DTSTART:20201025T010000
END:STANDARD
BEGIN:DAYLIGHT
TZOFFSETFROM:+0100
TZOFFSETTO:+0200
TZNAME:CEST
DTSTART:20210328T010000
END:DAYLIGHT
BEGIN:STANDARD
TZOFFSETFROM:+0200
TZOFFSETTO:+0100
TZNAME:CET
DTSTART:20211031T010000
END:STANDARD
BEGIN:DAYLIGHT
TZOFFSETFROM:+0100
TZOFFSETTO:+0200
TZNAME:CEST
DTSTART:20220327T010000
END:DAYLIGHT
BEGIN:STANDARD
TZOFFSETFROM:+0200
TZOFFSETTO:+0100
TZNAME:CET
DTSTART:20221030T010000
END:STANDARD
BEGIN:DAYLIGHT
TZOFFSETFROM:+0100
TZOFFSETTO:+0200
TZNAME:CEST
DTSTART:20230326T010000
END:DAYLIGHT
BEGIN:STANDARD
TZOFFSETFROM:+0200
TZOFFSETTO:+0100
TZNAME:CET
DTSTART:20231029T010000
END:STANDARD
BEGIN:DAYLIGHT
TZOFFSETFROM:+0100
TZOFFSETTO:+0200
TZNAME:CEST
DTSTART:20240331T010000
END:DAYLIGHT
BEGIN:STANDARD
TZOFFSETFROM:+0200
TZOFFSETTO:+0100
TZNAME:CET
DTSTART:20241027T010000
END:STANDARD
BEGIN:DAYLIGHT
TZOFFSETFROM:+0100
TZOFFSETTO:+0200
TZNAME:CEST
DTSTART:20250330T010000
END:DAYLIGHT
BEGIN:STANDARD
TZOFFSETFROM:+0200
TZOFFSETTO:+0100
TZNAME:CET
DTSTART:20251026T010000
END:STANDARD
BEGIN:DAYLIGHT
TZOFFSETFROM:+0100
TZOFFSETTO:+0200
TZNAME:CEST
DTSTART:20260329T010000
END:DAYLIGHT
BEGIN:STANDARD
TZOFFSETFROM:+0200
TZOFFSETTO:+0100
TZNAME:CET
DTSTART:20261025T010000
END:STANDARD
BEGIN:DAYLIGHT
TZOFFSETFROM:+0100
TZOFFSETTO:+0200
TZNAME:CEST
DTSTART:20270328T010000
END:DAYLIGHT
BEGIN:STANDARD
TZOFFSETFROM:+0200
TZOFFSETTO:+0100
TZNAME:CET
DTSTART:20271031T010000
END:STANDARD
END:VTIMEZONE
BEGIN:VEVENT
DTSTART;TZID=Europe/Berlin:20260318T193000
DTEND;TZID=Europe/Berlin:20260318T193000
DTSTAMP:20260424T020540
CREATED:20260304T131734Z
LAST-MODIFIED:20260304T131734Z
UID:6770-1773862200-1773862200@www.lag-begegnungsland.de
SUMMARY:Sitzung des Entscheidungsgremiums der LAG Begegnungsland Lech-Wertach
DESCRIPTION:
URL:https://www.lag-begegnungsland.de/termine/sitzung-des-entscheidungsgremiums-der-lag-begegnungsland-lech-wertach-2/
LOCATION:Informationspavillon 955\, Alter Postweg 1\, Königsbrunn\, 86343\, Germany
CATEGORIES:Versammlungen
ATTACH;FMTTYPE=image/jpeg:https://www.lag-begegnungsland.de/wp-content/uploads/Entscheidungsgremium-Archiv.jpg
ORGANIZER;CN="Begegnungsland Lech-Wertach e. V.":MAILTO:briefkasten@lag-begegnungsland.de
END:VEVENT
BEGIN:VEVENT
DTSTART;TZID=Europe/Berlin:20260318T183000
DTEND;TZID=Europe/Berlin:20260318T193000
DTSTAMP:20260424T020540
CREATED:20260304T131549Z
LAST-MODIFIED:20260304T131549Z
UID:6767-1773858600-1773862200@www.lag-begegnungsland.de
SUMMARY:Mitgliederversammlung der LAG Begegnungsland Lech-Wertach
DESCRIPTION:
URL:https://www.lag-begegnungsland.de/termine/mitgliederversammlung-der-lag-begegnungsland-lech-wertach-2-2-3-2/
LOCATION:Informationspavillon 955\, Alter Postweg 1\, Königsbrunn\, 86343\, Germany
CATEGORIES:Versammlungen
ATTACH;FMTTYPE=image/jpeg:https://www.lag-begegnungsland.de/wp-content/uploads/Entscheidungsgremium-Archiv.jpg
ORGANIZER;CN="Begegnungsland Lech-Wertach e. V.":MAILTO:briefkasten@lag-begegnungsland.de
END:VEVENT
BEGIN:VEVENT
DTSTART;TZID=Europe/Berlin:20251120T190000
DTEND;TZID=Europe/Berlin:20251120T190000
DTSTAMP:20260424T020540
CREATED:20251105T124643Z
LAST-MODIFIED:20251105T124643Z
UID:6691-1763665200-1763665200@www.lag-begegnungsland.de
SUMMARY:Sitzung des Entscheidungsgremiums
DESCRIPTION:
URL:https://www.lag-begegnungsland.de/termine/sitzung-des-entscheidungsgremiums-5-2-2-3-2-2-2-2-2/
LOCATION:Informationspavillon 955\, Alter Postweg 1\, Königsbrunn\, 86343\, Germany
CATEGORIES:Versammlungen
ATTACH;FMTTYPE=image/jpeg:https://www.lag-begegnungsland.de/wp-content/uploads/Mitgliederversammlung-Archivbild.jpg
ORGANIZER;CN="Begegnungsland Lech-Wertach e. V.":MAILTO:briefkasten@lag-begegnungsland.de
END:VEVENT
BEGIN:VEVENT
DTSTART;TZID=Europe/Berlin:20250731T183000
DTEND;TZID=Europe/Berlin:20250731T203000
DTSTAMP:20260424T020540
CREATED:20250717T143306Z
LAST-MODIFIED:20250717T145258Z
UID:6549-1753986600-1753993800@www.lag-begegnungsland.de
SUMMARY:Sitzung des Entscheidungsgremiums
DESCRIPTION:
URL:https://www.lag-begegnungsland.de/termine/sitzung-des-entscheidungsgremiums-5-2-2-3-2-2-2-2/
LOCATION:Informationspavillon 955\, Alter Postweg 1\, Königsbrunn\, 86343\, Germany
CATEGORIES:Versammlungen
ATTACH;FMTTYPE=image/jpeg:https://www.lag-begegnungsland.de/wp-content/uploads/Mitgliederversammlung-Archivbild.jpg
ORGANIZER;CN="Begegnungsland Lech-Wertach e. V.":MAILTO:briefkasten@lag-begegnungsland.de
END:VEVENT
BEGIN:VEVENT
DTSTART;TZID=Europe/Berlin:20250515T180000
DTEND;TZID=Europe/Berlin:20250515T180000
DTSTAMP:20260424T020540
CREATED:20250430T112904Z
LAST-MODIFIED:20250430T112904Z
UID:6445-1747332000-1747332000@www.lag-begegnungsland.de
SUMMARY:Mitgliederversammlung der LAG Begegnungsland Lech-Wertach
DESCRIPTION:
URL:https://www.lag-begegnungsland.de/termine/mitgliederversammlung-der-lag-begegnungsland-lech-wertach-2-2-3/
LOCATION:Informationspavillon 955\, Alter Postweg 1\, Königsbrunn\, 86343\, Germany
CATEGORIES:Versammlungen
ATTACH;FMTTYPE=image/jpeg:https://www.lag-begegnungsland.de/wp-content/uploads/Entscheidungsgremium-Archiv.jpg
ORGANIZER;CN="Begegnungsland Lech-Wertach e. V.":MAILTO:briefkasten@lag-begegnungsland.de
END:VEVENT
BEGIN:VEVENT
DTSTART;TZID=Europe/Berlin:20241010T170000
DTEND;TZID=Europe/Berlin:20241010T180000
DTSTAMP:20260424T020540
CREATED:20240925T152049Z
LAST-MODIFIED:20240925T152049Z
UID:6217-1728579600-1728583200@www.lag-begegnungsland.de
SUMMARY:Sitzung des Entscheidungsgremiums
DESCRIPTION:
URL:https://www.lag-begegnungsland.de/termine/sitzung-des-entscheidungsgremiums-5-2-2-3-2-2-2/
LOCATION:Rathaus Schwabmünchen\, Fuggerstraße 50\, Schwabmünchen\, 86830
CATEGORIES:Versammlungen
ATTACH;FMTTYPE=image/jpeg:https://www.lag-begegnungsland.de/wp-content/uploads/Mitgliederversammlung-Archivbild.jpg
ORGANIZER;CN="Begegnungsland Lech-Wertach e. V.":MAILTO:briefkasten@lag-begegnungsland.de
END:VEVENT
BEGIN:VEVENT
DTSTART;TZID=Europe/Berlin:20240516T190000
DTEND;TZID=Europe/Berlin:20240516T190000
DTSTAMP:20260424T020540
CREATED:20240502T103948Z
LAST-MODIFIED:20240502T103948Z
UID:6031-1715886000-1715886000@www.lag-begegnungsland.de
SUMMARY:Mitgliederversammlung der LAG Begegnungsland Lech-Wertach
DESCRIPTION:
URL:https://www.lag-begegnungsland.de/termine/mitgliederversammlung-der-lag-begegnungsland-lech-wertach-2-2-2/
LOCATION:Rathaus Schwabmünchen\, Fuggerstraße 50\, Schwabmünchen\, 86830
CATEGORIES:Versammlungen
ATTACH;FMTTYPE=image/jpeg:https://www.lag-begegnungsland.de/wp-content/uploads/Entscheidungsgremium-Archiv.jpg
ORGANIZER;CN="Begegnungsland Lech-Wertach e. V.":MAILTO:briefkasten@lag-begegnungsland.de
END:VEVENT
BEGIN:VEVENT
DTSTART;TZID=Europe/Berlin:20240516T180000
DTEND;TZID=Europe/Berlin:20240516T190000
DTSTAMP:20260424T020540
CREATED:20240502T102549Z
LAST-MODIFIED:20240502T102549Z
UID:6022-1715882400-1715886000@www.lag-begegnungsland.de
SUMMARY:Sitzung des Entscheidungsgremiums
DESCRIPTION:
URL:https://www.lag-begegnungsland.de/termine/sitzung-des-entscheidungsgremiums-5-2-2-3-2-2/
LOCATION:Rathaus Schwabmünchen\, Fuggerstraße 50\, Schwabmünchen\, 86830
CATEGORIES:Versammlungen
ATTACH;FMTTYPE=image/jpeg:https://www.lag-begegnungsland.de/wp-content/uploads/Mitgliederversammlung-Archivbild.jpg
ORGANIZER;CN="Begegnungsland Lech-Wertach e. V.":MAILTO:briefkasten@lag-begegnungsland.de
END:VEVENT
BEGIN:VEVENT
DTSTART;TZID=Europe/Berlin:20230622T190000
DTEND;TZID=Europe/Berlin:20230622T190000
DTSTAMP:20260424T020540
CREATED:20230601T135914Z
LAST-MODIFIED:20230601T135914Z
UID:5849-1687460400-1687460400@www.lag-begegnungsland.de
SUMMARY:Mitgliederversammlung der LAG Begegnungsland Lech-Wertach
DESCRIPTION:
URL:https://www.lag-begegnungsland.de/termine/mitgliederversammlung-der-lag-begegnungsland-lech-wertach-2-2/
LOCATION:Rathaus Schwabmünchen\, Fuggerstraße 50\, Schwabmünchen\, 86830
CATEGORIES:Versammlungen
ATTACH;FMTTYPE=image/jpeg:https://www.lag-begegnungsland.de/wp-content/uploads/Entscheidungsgremium-Archiv.jpg
ORGANIZER;CN="Begegnungsland Lech-Wertach e. V.":MAILTO:briefkasten@lag-begegnungsland.de
END:VEVENT
BEGIN:VEVENT
DTSTART;TZID=Europe/Berlin:20230622T180000
DTEND;TZID=Europe/Berlin:20230622T190000
DTSTAMP:20260424T020540
CREATED:20230601T102440Z
LAST-MODIFIED:20230601T102440Z
UID:5837-1687456800-1687460400@www.lag-begegnungsland.de
SUMMARY:Sitzung des Entscheidungsgremiums
DESCRIPTION:
URL:https://www.lag-begegnungsland.de/termine/sitzung-des-entscheidungsgremiums-5-2-2-3-2/
LOCATION:Rathaus Schwabmünchen\, Fuggerstraße 50\, Schwabmünchen\, 86830
CATEGORIES:Versammlungen
ATTACH;FMTTYPE=image/jpeg:https://www.lag-begegnungsland.de/wp-content/uploads/Mitgliederversammlung-Archivbild.jpg
ORGANIZER;CN="Begegnungsland Lech-Wertach e. V.":MAILTO:briefkasten@lag-begegnungsland.de
END:VEVENT
BEGIN:VEVENT
DTSTART;TZID=Europe/Berlin:20230309T183000
DTEND;TZID=Europe/Berlin:20230309T200000
DTSTAMP:20260424T020540
CREATED:20230222T124620Z
LAST-MODIFIED:20230222T124620Z
UID:5623-1678386600-1678392000@www.lag-begegnungsland.de
SUMMARY:Sitzung des Entscheidungsgremiums
DESCRIPTION:
URL:https://www.lag-begegnungsland.de/termine/sitzung-des-entscheidungsgremiums-5-2-2-3/
LOCATION:Rathaus Schwabmünchen\, Fuggerstraße 50\, Schwabmünchen\, 86830
CATEGORIES:Versammlungen
ATTACH;FMTTYPE=image/jpeg:https://www.lag-begegnungsland.de/wp-content/uploads/Mitgliederversammlung-Archivbild.jpg
ORGANIZER;CN="Begegnungsland Lech-Wertach e. V.":MAILTO:briefkasten@lag-begegnungsland.de
END:VEVENT
BEGIN:VEVENT
DTSTART;TZID=Europe/Berlin:20230216T183000
DTEND;TZID=Europe/Berlin:20230216T203000
DTSTAMP:20260424T020540
CREATED:20230126T084021Z
LAST-MODIFIED:20230127T092751Z
UID:5504-1676572200-1676579400@www.lag-begegnungsland.de
SUMMARY:Mitgliederversammlung der LAG Begegnungsland Lech-Wertach
DESCRIPTION:
URL:https://www.lag-begegnungsland.de/termine/mitgliederversammlung-der-lag-begegnungsland-lech-wertach-2/
LOCATION:Rathaus Schwabmünchen\, Fuggerstraße 50\, Schwabmünchen\, 86830
CATEGORIES:Versammlungen
ATTACH;FMTTYPE=image/jpeg:https://www.lag-begegnungsland.de/wp-content/uploads/Entscheidungsgremium-Archiv.jpg
ORGANIZER;CN="Begegnungsland Lech-Wertach e. V.":MAILTO:briefkasten@lag-begegnungsland.de
END:VEVENT
BEGIN:VEVENT
DTSTART;TZID=Europe/Berlin:20220714T200000
DTEND;TZID=Europe/Berlin:20220714T213000
DTSTAMP:20260424T020540
CREATED:20220629T132902Z
LAST-MODIFIED:20220629T132902Z
UID:5267-1657828800-1657834200@www.lag-begegnungsland.de
SUMMARY:Sitzung des Entscheidungsgremiums
DESCRIPTION:
URL:https://www.lag-begegnungsland.de/termine/sitzung-des-entscheidungsgremiums-5-2-2-2/
LOCATION:Rathaus Schwabmünchen\, Fuggerstraße 50\, Schwabmünchen\, 86830
CATEGORIES:Versammlungen
ATTACH;FMTTYPE=image/jpeg:https://www.lag-begegnungsland.de/wp-content/uploads/Mitgliederversammlung-Archivbild.jpg
ORGANIZER;CN="Begegnungsland Lech-Wertach e. V.":MAILTO:briefkasten@lag-begegnungsland.de
END:VEVENT
BEGIN:VEVENT
DTSTART;TZID=Europe/Berlin:20220714T180000
DTEND;TZID=Europe/Berlin:20220714T200000
DTSTAMP:20260424T020540
CREATED:20220513T130848Z
LAST-MODIFIED:20220629T132718Z
UID:5077-1657821600-1657828800@www.lag-begegnungsland.de
SUMMARY:Mitgliederversammlung der LAG Begegnungsland Lech-Wertach zur Bewerbung für die kommende LEADER-Förderphase
DESCRIPTION:
URL:https://www.lag-begegnungsland.de/termine/mitgliederversammlung-mit-begegnungsforum-der-lag-begegnungsland-lech-wertach-zur-bewerbung-fuer-die-kommende-leader-foerderphase/
LOCATION:Rathaus Schwabmünchen\, Fuggerstraße 50\, Schwabmünchen\, 86830
CATEGORIES:Versammlungen
ATTACH;FMTTYPE=image/jpeg:https://www.lag-begegnungsland.de/wp-content/uploads/Mitgliederversammlung-Archivbild.jpg
ORGANIZER;CN="Begegnungsland Lech-Wertach e. V.":MAILTO:briefkasten@lag-begegnungsland.de
END:VEVENT
BEGIN:VEVENT
DTSTART;TZID=Europe/Berlin:20220707T190000
DTEND;TZID=Europe/Berlin:20220707T213000
DTSTAMP:20260424T020540
CREATED:20220622T112218Z
LAST-MODIFIED:20220706T124347Z
UID:5235-1657220400-1657229400@www.lag-begegnungsland.de
SUMMARY:ÄNDERUNG !!!  ONLINE-Workshop der LAG Begegnungsland Lech-Wertach zur Bewerbung für die kommende LEADER-Förderphase
DESCRIPTION:
URL:https://www.lag-begegnungsland.de/termine/aenderung-online-workshop-der-lag-begegnungsland-lech-wertach-zur-bewerbung-fuer-die-kommende-leader-foerderphase/
LOCATION:Online
CATEGORIES:Versammlungen
ATTACH;FMTTYPE=image/jpeg:https://www.lag-begegnungsland.de/wp-content/uploads/Entscheidungsgremium-Archiv.jpg
ORGANIZER;CN="Begegnungsland Lech-Wertach e. V.":MAILTO:briefkasten@lag-begegnungsland.de
END:VEVENT
BEGIN:VEVENT
DTSTART;TZID=Europe/Berlin:20220630T190000
DTEND;TZID=Europe/Berlin:20220630T213000
DTSTAMP:20260424T020540
CREATED:20220513T130804Z
LAST-MODIFIED:20220517T150712Z
UID:5074-1656615600-1656624600@www.lag-begegnungsland.de
SUMMARY:Workshop der LAG Begegnungsland Lech-Wertach zur Bewerbung für die kommende LEADER-Förderphase
DESCRIPTION:
URL:https://www.lag-begegnungsland.de/termine/workshop-der-lag-begegnungsland-lech-wertach-zur-bewerbung-fuer-die-kommende-leader-foerderphase-2/
LOCATION:Rathaus Schwabmünchen\, Fuggerstraße 50\, Schwabmünchen\, 86830
CATEGORIES:Versammlungen
ATTACH;FMTTYPE=image/jpeg:https://www.lag-begegnungsland.de/wp-content/uploads/Entscheidungsgremium-Archiv.jpg
ORGANIZER;CN="Begegnungsland Lech-Wertach e. V.":MAILTO:briefkasten@lag-begegnungsland.de
END:VEVENT
BEGIN:VEVENT
DTSTART;TZID=Europe/Berlin:20220623T190000
DTEND;TZID=Europe/Berlin:20220623T213000
DTSTAMP:20260424T020540
CREATED:20220513T130732Z
LAST-MODIFIED:20220622T111537Z
UID:5071-1656010800-1656019800@www.lag-begegnungsland.de
SUMMARY:VERSCHOBEN !!! Workshop der LAG Begegnungsland Lech-Wertach zur Bewerbung für die kommende LEADER-Förderphase
DESCRIPTION:
URL:https://www.lag-begegnungsland.de/termine/workshop-der-lag-begegnungsland-lech-wertach-zur-bewerbung-fuer-die-kommende-leader-foerderphase-3/
LOCATION:Rathaus Schwabmünchen\, Fuggerstraße 50\, Schwabmünchen\, 86830
CATEGORIES:Versammlungen
ATTACH;FMTTYPE=image/jpeg:https://www.lag-begegnungsland.de/wp-content/uploads/Mitgliederversammlung-Archivbild.jpg
ORGANIZER;CN="Begegnungsland Lech-Wertach e. V.":MAILTO:briefkasten@lag-begegnungsland.de
END:VEVENT
BEGIN:VEVENT
DTSTART;TZID=Europe/Berlin:20220609T190000
DTEND;TZID=Europe/Berlin:20220609T213000
DTSTAMP:20260424T020540
CREATED:20220513T130654Z
LAST-MODIFIED:20220517T150742Z
UID:5068-1654801200-1654810200@www.lag-begegnungsland.de
SUMMARY:Workshop der LAG Begegnungsland Lech-Wertach zur Bewerbung für die kommende LEADER-Förderphase
DESCRIPTION:
URL:https://www.lag-begegnungsland.de/termine/workshop-der-lag-begegnungsland-lech-wertach-zur-bewerbung-fuer-die-kommende-leader-foerderphase-4/
LOCATION:Rathaus Schwabmünchen\, Fuggerstraße 50\, Schwabmünchen\, 86830
CATEGORIES:Versammlungen
ATTACH;FMTTYPE=image/jpeg:https://www.lag-begegnungsland.de/wp-content/uploads/Entscheidungsgremium-Archiv.jpg
ORGANIZER;CN="Begegnungsland Lech-Wertach e. V.":MAILTO:briefkasten@lag-begegnungsland.de
END:VEVENT
BEGIN:VEVENT
DTSTART;TZID=Europe/Berlin:20220602T190000
DTEND;TZID=Europe/Berlin:20220602T213000
DTSTAMP:20260424T020540
CREATED:20220513T130513Z
LAST-MODIFIED:20220517T150754Z
UID:5060-1654196400-1654205400@www.lag-begegnungsland.de
SUMMARY:Workshop der LAG Begegnungsland Lech-Wertach zur Bewerbung für die kommende LEADER-Förderphase
DESCRIPTION:
URL:https://www.lag-begegnungsland.de/termine/workshop-der-lag-begegnungsland-lech-wertach-zur-bewerbung-fuer-die-kommende-leader-foerderphase-5/
LOCATION:Rathaus Schwabmünchen\, Fuggerstraße 50\, Schwabmünchen\, 86830
CATEGORIES:Versammlungen
ATTACH;FMTTYPE=image/jpeg:https://www.lag-begegnungsland.de/wp-content/uploads/Mitgliederversammlung-Archivbild.jpg
ORGANIZER;CN="Begegnungsland Lech-Wertach e. V.":MAILTO:briefkasten@lag-begegnungsland.de
END:VEVENT
BEGIN:VEVENT
DTSTART;TZID=Europe/Berlin:20220525T190000
DTEND;TZID=Europe/Berlin:20220525T213000
DTSTAMP:20260424T020540
CREATED:20220513T130056Z
LAST-MODIFIED:20220513T130537Z
UID:5052-1653505200-1653514200@www.lag-begegnungsland.de
SUMMARY:Auftakt-Workshop der LAG Begegnungsland Lech-Wertach am 25.05.2022 zur Bewerbung für die kommende LEADER-Förderphase
DESCRIPTION:
URL:https://www.lag-begegnungsland.de/termine/auftakt-workshop-der-lag-begegnungsland-lech-wertach-am-25-05-2022-zur-bewerbung-fuer-die-kommende-leader-foerderphase/
LOCATION:Stadthalle Schwabmünchen | Nebenraum Restaurant\, Breitweg 20\, Schwabmünchen\, 86830
CATEGORIES:Versammlungen
ATTACH;FMTTYPE=image/jpeg:https://www.lag-begegnungsland.de/wp-content/uploads/Entscheidungsgremium-Archiv.jpg
ORGANIZER;CN="Begegnungsland Lech-Wertach e. V.":MAILTO:briefkasten@lag-begegnungsland.de
END:VEVENT
BEGIN:VEVENT
DTSTART;TZID=Europe/Berlin:20220512T184500
DTEND;TZID=Europe/Berlin:20220512T210000
DTSTAMP:20260424T020540
CREATED:20220428T132345Z
LAST-MODIFIED:20220428T132345Z
UID:5007-1652381100-1652389200@www.lag-begegnungsland.de
SUMMARY:Sitzung des Entscheidungsgremiums
DESCRIPTION:
URL:https://www.lag-begegnungsland.de/termine/sitzung-des-entscheidungsgremiums-5-2-2/
LOCATION:Rathaus Schwabmünchen\, Fuggerstraße 50\, Schwabmünchen\, 86830
CATEGORIES:Versammlungen
ATTACH;FMTTYPE=image/jpeg:https://www.lag-begegnungsland.de/wp-content/uploads/Mitgliederversammlung-Archivbild.jpg
ORGANIZER;CN="Begegnungsland Lech-Wertach e. V.":MAILTO:briefkasten@lag-begegnungsland.de
END:VEVENT
BEGIN:VEVENT
DTSTART;TZID=Europe/Berlin:20220512T180000
DTEND;TZID=Europe/Berlin:20220512T183000
DTSTAMP:20260424T020540
CREATED:20220428T123848Z
LAST-MODIFIED:20220428T132613Z
UID:4998-1652378400-1652380200@www.lag-begegnungsland.de
SUMMARY:Mitgliederversammlung
DESCRIPTION:
URL:https://www.lag-begegnungsland.de/termine/mitgliederversammlung-2-2/
LOCATION:Rathaus Schwabmünchen\, Fuggerstraße 50\, Schwabmünchen\, 86830
CATEGORIES:Versammlungen
ATTACH;FMTTYPE=image/jpeg:https://www.lag-begegnungsland.de/wp-content/uploads/Mitgliederversammlung-Archivbild.jpg
ORGANIZER;CN="Begegnungsland Lech-Wertach e. V.":MAILTO:briefkasten@lag-begegnungsland.de
END:VEVENT
BEGIN:VEVENT
DTSTART;TZID=Europe/Berlin:20220217T200000
DTEND;TZID=Europe/Berlin:20220217T213000
DTSTAMP:20260424T020540
CREATED:20220202T161658Z
LAST-MODIFIED:20220202T163246Z
UID:4879-1645128000-1645133400@www.lag-begegnungsland.de
SUMMARY:Mitgliederversammlung
DESCRIPTION:
URL:https://www.lag-begegnungsland.de/termine/mitgliederversammlung-2/
LOCATION:Online
CATEGORIES:Versammlungen
ATTACH;FMTTYPE=image/jpeg:https://www.lag-begegnungsland.de/wp-content/uploads/Mitgliederversammlung-Archivbild.jpg
ORGANIZER;CN="Begegnungsland Lech-Wertach e. V.":MAILTO:briefkasten@lag-begegnungsland.de
END:VEVENT
BEGIN:VEVENT
DTSTART;TZID=Europe/Berlin:20220217T183000
DTEND;TZID=Europe/Berlin:20220217T200000
DTSTAMP:20260424T020540
CREATED:20220202T171153Z
LAST-MODIFIED:20220202T171153Z
UID:4905-1645122600-1645128000@www.lag-begegnungsland.de
SUMMARY:Sitzung des Entscheidungsgremiums
DESCRIPTION:
URL:https://www.lag-begegnungsland.de/termine/sitzung-des-entscheidungsgremiums-5-2/
LOCATION:Online
CATEGORIES:Versammlungen
ATTACH;FMTTYPE=image/jpeg:https://www.lag-begegnungsland.de/wp-content/uploads/Mitgliederversammlung-Archivbild.jpg
ORGANIZER;CN="Begegnungsland Lech-Wertach e. V.":MAILTO:briefkasten@lag-begegnungsland.de
END:VEVENT
BEGIN:VEVENT
DTSTART;TZID=Europe/Berlin:20220203T183000
DTEND;TZID=Europe/Berlin:20220203T200000
DTSTAMP:20260424T020540
CREATED:20220120T093325Z
LAST-MODIFIED:20220120T093325Z
UID:4835-1643913000-1643918400@www.lag-begegnungsland.de
SUMMARY:2. Bilanz-/Evaluierungsworkshop 2022
DESCRIPTION:
URL:https://www.lag-begegnungsland.de/termine/mitgliederversammlung-und-begegnungsforum-2021-2-2/
LOCATION:Online
CATEGORIES:Versammlungen
ATTACH;FMTTYPE=image/jpeg:https://www.lag-begegnungsland.de/wp-content/uploads/Entscheidungsgremium-Archiv.jpg
ORGANIZER;CN="Begegnungsland Lech-Wertach e. V.":MAILTO:briefkasten@lag-begegnungsland.de
END:VEVENT
BEGIN:VEVENT
DTSTART;VALUE=DATE:20211223
DTEND;VALUE=DATE:20220108
DTSTAMP:20260424T020540
CREATED:20211221T082009Z
LAST-MODIFIED:20211221T082056Z
UID:4824-1640217600-1641599999@www.lag-begegnungsland.de
SUMMARY:Geschäftsstelle geschlossen
DESCRIPTION:Vom 23.12.2021 bis einschließlich 07.01.2022 befindet sich die Geschäftsstelle des Begegnungsland Lech-Wertach e. V. im Winterschlaf\, um dann mit vollem Elan für Sie im neuen Jahr 2022 wieder tätig sein zu können.
URL:https://www.lag-begegnungsland.de/termine/geschaeftsstelle-geschlossen-2/
LOCATION:Rathaus Schwabmünchen\, Fuggerstraße 50\, Schwabmünchen\, 86830
CATEGORIES:Sonstiges
ATTACH;FMTTYPE=image/jpeg:https://www.lag-begegnungsland.de/wp-content/uploads/20161201_171929.jpg
ORGANIZER;CN="Begegnungsland Lech-Wertach e. V.":MAILTO:briefkasten@lag-begegnungsland.de
END:VEVENT
BEGIN:VEVENT
DTSTART;TZID=Europe/Berlin:20211209T183000
DTEND;TZID=Europe/Berlin:20211209T200000
DTSTAMP:20260424T020540
CREATED:20211125T073723Z
LAST-MODIFIED:20211125T074412Z
UID:4749-1639074600-1639080000@www.lag-begegnungsland.de
SUMMARY:Mitgliederversammlung mit Bürgerforum und Bilanz-/Evaluierungsworkshop 2021
DESCRIPTION:
URL:https://www.lag-begegnungsland.de/termine/mitgliederversammlung-und-begegnungsforum-2021-2/
LOCATION:Online
CATEGORIES:Versammlungen
ATTACH;FMTTYPE=image/jpeg:https://www.lag-begegnungsland.de/wp-content/uploads/Entscheidungsgremium-Archiv.jpg
ORGANIZER;CN="Begegnungsland Lech-Wertach e. V.":MAILTO:briefkasten@lag-begegnungsland.de
END:VEVENT
BEGIN:VEVENT
DTSTART;TZID=Europe/Berlin:20211102T090000
DTEND;TZID=Europe/Berlin:20220114T090000
DTSTAMP:20260424T020540
CREATED:20211026T082749Z
LAST-MODIFIED:20211026T090000Z
UID:4685-1635843600-1642150800@www.lag-begegnungsland.de
SUMMARY:Erster Aufruf zur Einreichung von Maßnahmenvorschlägen für das Projekt "Unterstützung Bürgerengagement 2.0"
DESCRIPTION:Die LAG Begegnungsland Lech-Wertach fördert im Rahmen des LEADER-Projektes „Unterstützung Bürgerengagement“ Kleinprojekte (sog. Einzelmaßnahmen)\, die das bürgerschaftliche Engagement im Begegnungsland stärken und einen Beitrag zu mindestens einem Handlungsziel der Lokalen Entwicklungsstrategie (LES) leisten. Damit soll die Möglichkeit eröffnet werden\, bürgerschaftliches Engagement auf möglichst unbürokratischem Wege zu fördern sowie die so bedeutende Anerkennung und Wertschätzung von Ehrenamtlichen zu steigern\, sodass unsere Region noch attraktiver gestaltet werden kann.\nInsgesamt stehen der LAG Begegnungsland Lech-Wertach 30.000\,00 € für dieses Projekt zur Verfügung. 90 Prozent der Mittel werden dabei durch das Bayerische Staatsministerium für Ernährung\, Landwirtschaft und Forsten finanziert\, 10 Prozent werden durch die LAG selbst beigesteuert. Gefördert werden können bis zu 100 % der Nettokosten\, die maximale Förderhöhe beträgt 2.500 €\nSie haben eine Projektidee?\nWenn Sie sich als Verein oder Privatperson eine Einzelmaßnahme im Rahmen des Projekts „Unterstützung Bürgerengagement“ fördern lassen möchten\, so können Sie im Rahmen des Aufrufs vom 02.11.2021 bis 14.01.2022 (09:00) einen formlosen schriftlichen Antrag einreichen.
URL:https://www.lag-begegnungsland.de/termine/erster-aufruf-zur-einreichung-von-massnahmenvorschlaegen-fuer-das-projekt-unterstuetzung-buergerengagement-2/
CATEGORIES:Förderaufrufe
ATTACH;FMTTYPE=image/jpeg:https://www.lag-begegnungsland.de/wp-content/uploads/Der-neue-Vorstand-des-Begegnungslands.jpg
ORGANIZER;CN="Begegnungsland Lech-Wertach e. V.":MAILTO:briefkasten@lag-begegnungsland.de
END:VEVENT
BEGIN:VEVENT
DTSTART;TZID=Europe/Berlin:20210729T194500
DTEND;TZID=Europe/Berlin:20210729T210000
DTSTAMP:20260424T020540
CREATED:20210630T131422Z
LAST-MODIFIED:20210630T131751Z
UID:4546-1627587900-1627592400@www.lag-begegnungsland.de
SUMMARY:Mitgliederversammlung und Begegnungsforum 2021
DESCRIPTION:
URL:https://www.lag-begegnungsland.de/termine/mitgliederversammlung-und-begegnungsforum-2021/
LOCATION:Singoldhalle Bobingen\, Willi-Ohlendorf-Weg 1\, Bobingen\, 86399\, Deutschland
CATEGORIES:Versammlungen
ATTACH;FMTTYPE=image/jpeg:https://www.lag-begegnungsland.de/wp-content/uploads/Entscheidungsgremium-Archiv.jpg
ORGANIZER;CN="Begegnungsland Lech-Wertach e. V.":MAILTO:briefkasten@lag-begegnungsland.de
END:VEVENT
BEGIN:VEVENT
DTSTART;TZID=Europe/Berlin:20210729T183000
DTEND;TZID=Europe/Berlin:20210729T194500
DTSTAMP:20260424T020540
CREATED:20210630T131911Z
LAST-MODIFIED:20210630T131911Z
UID:4550-1627583400-1627587900@www.lag-begegnungsland.de
SUMMARY:Sitzung des Entscheidungsgremiums
DESCRIPTION:
URL:https://www.lag-begegnungsland.de/termine/sitzung-des-entscheidungsgremiums-5/
LOCATION:Singoldhalle Bobingen\, Willi-Ohlendorf-Weg 1\, Bobingen\, 86399\, Deutschland
CATEGORIES:Versammlungen
ATTACH;FMTTYPE=image/jpeg:https://www.lag-begegnungsland.de/wp-content/uploads/Mitgliederversammlung-Archivbild.jpg
ORGANIZER;CN="Begegnungsland Lech-Wertach e. V.":MAILTO:briefkasten@lag-begegnungsland.de
END:VEVENT
END:VCALENDAR